BEGIN:VCALENDAR
VERSION:2.0
PRODID:-//Pickwicks - ECPv6.15.20//NONSGML v1.0//EN
CALSCALE:GREGORIAN
METHOD:PUBLISH
X-ORIGINAL-URL:https://pickwicks.de
X-WR-CALDESC:Events for Pickwicks
REFRESH-INTERVAL;VALUE=DURATION:PT1H
X-Robots-Tag:noindex
X-PUBLISHED-TTL:PT1H
BEGIN:VTIMEZONE
TZID:Europe/Berlin
BEGIN:DAYLIGHT
TZOFFSETFROM:+0100
TZOFFSETTO:+0200
TZNAME:CEST
DTSTART:20240331T010000
END:DAYLIGHT
BEGIN:STANDARD
TZOFFSETFROM:+0200
TZOFFSETTO:+0100
TZNAME:CET
DTSTART:20241027T010000
END:STANDARD
BEGIN:DAYLIGHT
TZOFFSETFROM:+0100
TZOFFSETTO:+0200
TZNAME:CEST
DTSTART:20250330T010000
END:DAYLIGHT
BEGIN:STANDARD
TZOFFSETFROM:+0200
TZOFFSETTO:+0100
TZNAME:CET
DTSTART:20251026T010000
END:STANDARD
BEGIN:DAYLIGHT
TZOFFSETFROM:+0100
TZOFFSETTO:+0200
TZNAME:CEST
DTSTART:20260329T010000
END:DAYLIGHT
BEGIN:STANDARD
TZOFFSETFROM:+0200
TZOFFSETTO:+0100
TZNAME:CET
DTSTART:20261025T010000
END:STANDARD
END:VTIMEZONE
BEGIN:VEVENT
DTSTART;TZID=Europe/Berlin:20250524T193000
DTEND;TZID=Europe/Berlin:20250524T220000
DTSTAMP:20260421T151403
CREATED:20250516T080656Z
LAST-MODIFIED:20250516T080656Z
UID:8437-1748115000-1748124000@pickwicks.de
SUMMARY:New FEST play 'The Realistic Joneses'
DESCRIPTION:A funny yet moving new play about two couples with the same surname. If you’re interested\, please buy your own tickets on the Kulturhaus website or at the box office on the night. We’ll meet in the foyer at around 7.15 p.m. before the performance starts at 7.30. \nIf this date isn’t convenient\, there are additional performances on 16\, 17 and 18 and on 23 and 25 May. \nRegards\, \nSally
URL:https://pickwicks.de/event/new-fest-play-the-realistic-joneses/
LOCATION:Kulturhaus Frankfurt\, Pfingstweidstraße 2\, Frankfurt am Main\, 60316
CATEGORIES:Theater Event
ATTACH;FMTTYPE=image/jpeg:https://pickwicks.de/wp-content/uploads/2025/05/Realistic-Jonses_16_9.jpg
ORGANIZER;CN="Sally Lamm":MAILTO:sally_lamm@t-online.de
END:VEVENT
END:VCALENDAR