BEGIN:VCALENDAR
VERSION:2.0
PRODID:-//Pickwicks - ECPv6.15.20//NONSGML v1.0//EN
CALSCALE:GREGORIAN
METHOD:PUBLISH
X-WR-CALNAME:Pickwicks
X-ORIGINAL-URL:https://pickwicks.de
X-WR-CALDESC:Events for Pickwicks
REFRESH-INTERVAL;VALUE=DURATION:PT1H
X-Robots-Tag:noindex
X-PUBLISHED-TTL:PT1H
BEGIN:VTIMEZONE
TZID:Europe/Berlin
BEGIN:DAYLIGHT
TZOFFSETFROM:+0100
TZOFFSETTO:+0200
TZNAME:CEST
DTSTART:20240331T010000
END:DAYLIGHT
BEGIN:STANDARD
TZOFFSETFROM:+0200
TZOFFSETTO:+0100
TZNAME:CET
DTSTART:20241027T010000
END:STANDARD
BEGIN:DAYLIGHT
TZOFFSETFROM:+0100
TZOFFSETTO:+0200
TZNAME:CEST
DTSTART:20250330T010000
END:DAYLIGHT
BEGIN:STANDARD
TZOFFSETFROM:+0200
TZOFFSETTO:+0100
TZNAME:CET
DTSTART:20251026T010000
END:STANDARD
BEGIN:DAYLIGHT
TZOFFSETFROM:+0100
TZOFFSETTO:+0200
TZNAME:CEST
DTSTART:20260329T010000
END:DAYLIGHT
BEGIN:STANDARD
TZOFFSETFROM:+0200
TZOFFSETTO:+0100
TZNAME:CET
DTSTART:20261025T010000
END:STANDARD
END:VTIMEZONE
BEGIN:VEVENT
DTSTART;TZID=Europe/Berlin:20250428T140000
DTEND;TZID=Europe/Berlin:20250428T163000
DTSTAMP:20260422T035614
CREATED:20250424T121337Z
LAST-MODIFIED:20250424T121337Z
UID:8413-1745848800-1745857800@pickwicks.de
SUMMARY:Cinema visit on Monday 28 April
DESCRIPTION:Cinema Rossmarkt is showing the film The Penguin Lessons in the original English. It is based on true events. \nThe performance starts at 2.15. If you’re interested\, please buy your own tickets\, either online or at the box office\, and we’ll meet in the foyer at about 2 p.m.
URL:https://pickwicks.de/event/cinema-visit-on-monday-28-april/
LOCATION:Cinéma\, Rossmarkt 7\, Frankfurt am Main\, 60311
CATEGORIES:Cinema event
ATTACH;FMTTYPE=image/webp:https://pickwicks.de/wp-content/uploads/2025/04/The-Penguin-Lessons_16_9-scaled.webp
ORGANIZER;CN="Sally Lamm":MAILTO:sally_lamm@t-online.de
END:VEVENT
END:VCALENDAR