BEGIN:VCALENDAR
VERSION:2.0
PRODID:-//Pickwicks - ECPv6.15.20//NONSGML v1.0//EN
CALSCALE:GREGORIAN
METHOD:PUBLISH
X-ORIGINAL-URL:https://pickwicks.de
X-WR-CALDESC:Events for Pickwicks
REFRESH-INTERVAL;VALUE=DURATION:PT1H
X-Robots-Tag:noindex
X-PUBLISHED-TTL:PT1H
BEGIN:VTIMEZONE
TZID:Europe/Berlin
BEGIN:DAYLIGHT
TZOFFSETFROM:+0100
TZOFFSETTO:+0200
TZNAME:CEST
DTSTART:20250330T010000
END:DAYLIGHT
BEGIN:STANDARD
TZOFFSETFROM:+0200
TZOFFSETTO:+0100
TZNAME:CET
DTSTART:20251026T010000
END:STANDARD
BEGIN:DAYLIGHT
TZOFFSETFROM:+0100
TZOFFSETTO:+0200
TZNAME:CEST
DTSTART:20260329T010000
END:DAYLIGHT
BEGIN:STANDARD
TZOFFSETFROM:+0200
TZOFFSETTO:+0100
TZNAME:CET
DTSTART:20261025T010000
END:STANDARD
BEGIN:DAYLIGHT
TZOFFSETFROM:+0100
TZOFFSETTO:+0200
TZNAME:CEST
DTSTART:20270328T010000
END:DAYLIGHT
BEGIN:STANDARD
TZOFFSETFROM:+0200
TZOFFSETTO:+0100
TZNAME:CET
DTSTART:20271031T010000
END:STANDARD
END:VTIMEZONE
BEGIN:VEVENT
DTSTART;TZID=Europe/Berlin:20260307T200000
DTEND;TZID=Europe/Berlin:20260307T223000
DTSTAMP:20260425T134418
CREATED:20260303T150235Z
LAST-MODIFIED:20260303T150235Z
UID:8677-1772913600-1772922600@pickwicks.de
SUMMARY:Theatre visit on Saturday 7 March
DESCRIPTION:Theatre group Shakespeare Frankfurt are performing Goldoni’s classic comedy Servant of Two Masters\, in a new English translation by the play’s director.  The venue is the Internationales Theater in the Zoopassage\, Ostend\, and performances start at 8 p.m. \nThose interested are requested to buy their own tickets\, either online\, at the theatre’s ticket office or on the night.  We’ll meet in the foyer from 7.30 onwards. \nRegards\, \nSally
URL:https://pickwicks.de/event/theatre-visit-on-saturday-7-march/
LOCATION:Internationales Theater Frankfurt\, Hanauer Landstraße 7\, Frankfurt am Main\, 60314
CATEGORIES:Theater Event
ATTACH;FMTTYPE=image/jpeg:https://pickwicks.de/wp-content/uploads/2026/03/Servant-of-two-Masters_org.jpg
ORGANIZER;CN="Sally Lamm":MAILTO:sally_lamm@t-online.de
END:VEVENT
END:VCALENDAR