BEGIN:VCALENDAR
VERSION:2.0
PRODID:-//Pickwicks - ECPv6.15.20//NONSGML v1.0//EN
CALSCALE:GREGORIAN
METHOD:PUBLISH
X-ORIGINAL-URL:https://pickwicks.de
X-WR-CALDESC:Events for Pickwicks
REFRESH-INTERVAL;VALUE=DURATION:PT1H
X-Robots-Tag:noindex
X-PUBLISHED-TTL:PT1H
BEGIN:VTIMEZONE
TZID:Europe/Berlin
BEGIN:DAYLIGHT
TZOFFSETFROM:+0100
TZOFFSETTO:+0200
TZNAME:CEST
DTSTART:20250330T010000
END:DAYLIGHT
BEGIN:STANDARD
TZOFFSETFROM:+0200
TZOFFSETTO:+0100
TZNAME:CET
DTSTART:20251026T010000
END:STANDARD
BEGIN:DAYLIGHT
TZOFFSETFROM:+0100
TZOFFSETTO:+0200
TZNAME:CEST
DTSTART:20260329T010000
END:DAYLIGHT
BEGIN:STANDARD
TZOFFSETFROM:+0200
TZOFFSETTO:+0100
TZNAME:CET
DTSTART:20261025T010000
END:STANDARD
BEGIN:DAYLIGHT
TZOFFSETFROM:+0100
TZOFFSETTO:+0200
TZNAME:CEST
DTSTART:20270328T010000
END:DAYLIGHT
BEGIN:STANDARD
TZOFFSETFROM:+0200
TZOFFSETTO:+0100
TZNAME:CET
DTSTART:20271031T010000
END:STANDARD
END:VTIMEZONE
BEGIN:VEVENT
DTSTART;TZID=Europe/Berlin:20260415T190000
DTEND;TZID=Europe/Berlin:20260415T220000
DTSTAMP:20260422T020147
CREATED:20260411T210032Z
LAST-MODIFIED:20260411T210032Z
UID:8705-1776279600-1776290400@pickwicks.de
SUMMARY:Wednesday meeting at Café Plazz
DESCRIPTION:This Wednesday Pickwicks will be back at Café Plazz on Kirchplatz in Bockenheim.
URL:https://pickwicks.de/event/wednesday-meeting-at-cafe-plazz-17/
LOCATION:Café Plazz\, Kirchplatz 8\, Frankfurt-Bockenheim\, 60487
CATEGORIES:Dinner Event,Weekly Meeting
ATTACH;FMTTYPE=image/jpeg:https://pickwicks.de/wp-content/uploads/2019/09/plazz.jpg
ORGANIZER;CN="Sally Lamm":MAILTO:sally_lamm@t-online.de
END:VEVENT
BEGIN:VEVENT
DTSTART;TZID=Europe/Berlin:20260422T190000
DTEND;TZID=Europe/Berlin:20260422T220000
DTSTAMP:20260422T020147
CREATED:20260419T001242Z
LAST-MODIFIED:20260419T001242Z
UID:8707-1776884400-1776895200@pickwicks.de
SUMMARY:Wednesday meeting at Lilium
DESCRIPTION:Our next weekly meeting will be at the Lilium in Frankfurt-Bockenheim\, near Bockenheimer Warte.
URL:https://pickwicks.de/event/wednesday-meeting-at-lilium-18/
LOCATION:Lilium\, Leipziger Straße 4\, Frankfurt\, 60487
CATEGORIES:Dinner Event,Weekly Meeting
ATTACH;FMTTYPE=image/jpeg:https://pickwicks.de/wp-content/uploads/2021/12/lilium.jpg
ORGANIZER;CN="Sally Lamm":MAILTO:sally_lamm@t-online.de
END:VEVENT
BEGIN:VEVENT
DTSTART;TZID=Europe/Berlin:20260613T160000
DTEND;TZID=Europe/Berlin:20260613T180000
DTSTAMP:20260422T020147
CREATED:20260421T095838Z
LAST-MODIFIED:20260421T095838Z
UID:8711-1781366400-1781373600@pickwicks.de
SUMMARY:50 years of Pickwicks: All aboard!
DESCRIPTION:As part of the Pickwicks 50th Anniversary Celebrations\, on Saturday 13 June we will go on a short boat trip (roughly 100 minutes) at 4 p.m. from the Eiserner Steg in Frankfurt. It takes in the ‘Mainhattan’ skyline and a number of notable Frankfurt landmarks visible from the river. Refreshments will be provided specially for us\, the cost of which will be borne by Pickwicks. \nThe trip itself costs €19.50.  If you wish to take part in the boat trip\, please use the ‘Sign up’ button below and pay your €19.50 by Saturday 23 May at the latest.  Payment can be in cash to the Treasurer on a Wednesday evening or by bank transfer to the Pickwicks account at Commerzbank: \nPickwicks English Club\nIBAN DE98 5004 0000 0582 1046 00\n‘Pickwicks boat trip’ \nWe are expecting this to be a popular event\, so please book early to avoid disappointment! Details of exactly where and when to meet on the day will be provided in due course.
URL:https://pickwicks.de/event/50-years-of-pickwicks-all-aboard/
LOCATION:Primus-Linie pier\, Mainkai 36\, Frankfurt\, 60311
ATTACH;FMTTYPE=image/jpeg:https://pickwicks.de/wp-content/uploads/2026/04/260613_BoatTrip.jpg
ORGANIZER;CN="Sally Lamm":MAILTO:sally_lamm@t-online.de
END:VEVENT
END:VCALENDAR